Workbook

Sheet 選択肢
A1: 1枚目（表） | F1: 2枚目
A2: 児童クラブ名 | B2: 性別 | C2: 学校名 | D2: 延長・土曜希望 | F2: スポーツ安全保険の有無
A3: 向台小児童クラブ | B3: 男 | C3: 向台小学校 | D3: 有 | F3: 有
A4: 岡田小児童クラブ | B4: 女 | C4: 岡田小学校 | D4: 無 | F4: 無
A5: 牛久小児童クラブ | C5: 牛久小学校
A6: 神谷小児童クラブ | C6: 神谷小学校
A7: おくの義務教育学校児童クラブ | C7: おくの義務教育学校
A8: 牛久第二小児童クラブ | C8: 牛久第二小学校
A9: 中根小児童クラブ | C9: 中根小学校
A10: ひたち野うしく小児童クラブ | C10: ひたち野うしく小学校

Sheet 入力漏れチェック
A2: 頁 | B2: 項目 | C2: 節 | D2: エラーチェック | E2: エラー内容
A3: 1枚目 | B3: 日付 | C3: 日付 | D3: =IF('1枚目'!DO6="年 月 日","×","○") -> × | E3: =IF(D3="×",C3&"の入力が漏れている可能性があります。","") -> 日付の入力が漏れている可能性があります。
B4: 保護者情報 | C4: 郵便番号 | D4: =IF('1枚目'!CH8="","×","○") -> × | E4: =IF(D4="×",C4&"の入力が漏れている可能性があります。","") -> 郵便番号の入力が漏れている可能性があります。
C5: 住所 | D5: =IF('1枚目'!CH9="","×","○") -> × | E5: =IF(D5="×",C5&"の入力が漏れている可能性があります。","") -> 住所の入力が漏れている可能性があります。
C6: 氏名 | D6: =IF('1枚目'!CH10="","×","○") -> × | E6: =IF(D6="×",C6&"の入力が漏れている可能性があります。","") -> 氏名の入力が漏れている可能性があります。
C7: 電話番号 | D7: =IF('1枚目'!CH11="","×","○") -> × | E7: =IF(D7="×",C7&"の入力が漏れている可能性があります。","") -> 電話番号の入力が漏れている可能性があります。
B8: 児童情報 | C8: 児童クラブ名 | D8: =IF('1枚目'!AA15="","×","○") -> × | E8: =IF(D8="×",C8&"の入力が漏れている可能性があります。","") -> 児童クラブ名の入力が漏れている可能性があります。
C9: 児童氏名 | D9: =IF('1枚目'!AA17="","×","○") -> × | E9: =IF(D9="×",C9&"の入力が漏れている可能性があります。","") -> 児童氏名の入力が漏れている可能性があります。
C10: 児童フリガナ | D10: =IF('1枚目'!AA16="","×","○") -> × | E10: =IF(D10="×",C10&"の入力が漏れている可能性があります。","") -> 児童フリガナの入力が漏れている可能性があります。
C11: 性別 | D11: =IF('1枚目'!DY16="","×","○") -> × | E11: =IF(D11="×",C11&"の入力が漏れている可能性があります。","") -> 性別の入力が漏れている可能性があります。
C12: 生年月日 | D12: =IF('1枚目'!AA18="年 月 日","×","○") -> × | E12: =IF(D12="×",C12&"の入力が漏れている可能性があります。","") -> 生年月日の入力が漏れている可能性があります。
C13: 学校名 | D13: =IF('1枚目'!DM18="","×","○") -> × | E13: =IF(D13="×",C13&"の入力が漏れている可能性があります。","") -> 学校名の入力が漏れている可能性があります。
C14: 学年 | D14: =IF('1枚目'!DM19="","×","○") -> × | E14: =IF(D14="×",C14&"の入力が漏れている可能性があります。","") -> 学年の入力が漏れている可能性があります。
C15: 健康状態 | D15: =IF('1枚目'!AA19="","×","○") -> × | E15: =IF(D15="×",C15&"の入力が漏れている可能性があります。","") -> 健康状態の入力が漏れている可能性があります。
C16: 既往歴 | D16: =IF('1枚目'!AA20="","×","○") -> × | E16: =IF(D16="×",C16&"の入力が漏れている可能性があります。","") -> 既往歴の入力が漏れている可能性があります。
C17: 延長希望 | D17: =IF('1枚目'!AA22="","×","○") -> × | E17: =IF(D17="×",C17&"の入力が漏れている可能性があります。","") -> 延長希望の入力が漏れている可能性があります。
C18: 土曜希望 | D18: =IF('1枚目'!BW22="","×","○") -> × | E18: =IF(D18="×",C18&"の入力が漏れている可能性があります。","") -> 土曜希望の入力が漏れている可能性があります。
C19: 家族構成 | D19: =IF('1枚目'!U24="","×","○") -> × | E19: =IF(D19="×",C19&"の入力が漏れている可能性があります。","") -> 家族構成の入力が漏れている可能性があります。
C20: 緊急連絡先 | D20: =IF('1枚目'!U32="","×","○") -> × | E20: =IF(D20="×",C20&"の入力が漏れている可能性があります。","") -> 緊急連絡先の入力が漏れている可能性があります。
A21: 2枚目 | B21: 土曜・延長 | C21: 勤務所在地 | D21: =IF('2枚目'!AF3="","×","○") -> × | E21: =IF(D21="×",C21&"の入力が漏れている可能性があります。","") -> 勤務所在地の入力が漏れている可能性があります。
C22: 勤務時間（始） | D22: =IF('2枚目'!AF4="時 分","×","○") -> × | E22: =IF(D22="×",C22&"の入力が漏れている可能性があります。","") -> 勤務時間（始）の入力が漏れている可能性があります。
C23: 勤務時間（終） | D23: =IF('2枚目'!CO4="時 分","×","○") -> × | E23: =IF(D23="×",C23&"の入力が漏れている可能性があります。","") -> 勤務時間（終）の入力が漏れている可能性があります。
C24: 通勤方法 | D24: =IF('2枚目'!AF5="","×","○") -> × | E24: =IF(D24="×",C24&"の入力が漏れている可能性があります。","") -> 通勤方法の入力が漏れている可能性があります。
C25: 通勤時間 | D25: =IF('2枚目'!AF6="","×","○") -> × | E25: =IF(D25="×",C25&"の入力が漏れている可能性があります。","") -> 通勤時間の入力が漏れている可能性があります。
C26: 延長希望理由 | D26: =IF('2枚目'!AF7="","×","○") -> × | E26: =IF(D26="×",C26&"の入力が漏れている可能性があります。","") -> 延長希望理由の入力が漏れている可能性があります。
C27: 土曜勤務時間（始） | D27: =IF('2枚目'!AF8="時 分","×","○") -> × | E27: =IF(D27="×",C27&"の入力が漏れている可能性があります。","") -> 土曜勤務時間（始）の入力が漏れている可能性があります。
C28: 土曜勤務時間（終） | D28: =IF('2枚目'!CO8="時 分","×","○") -> × | E28: =IF(D28="×",C28&"の入力が漏れている可能性があります。","") -> 土曜勤務時間（終）の入力が漏れている可能性があります。
C29: 土曜希望理由 | D29: =IF('2枚目'!AF9="","×","○") -> × | E29: =IF(D29="×",C29&"の入力が漏れている可能性があります。","") -> 土曜希望理由の入力が漏れている可能性があります。
C30: スポーツ安全保険の有無 | D30: =IF('2枚目'!DV11="","×","○") -> × | E30: =IF(D30="×",C30&"の入力が漏れている可能性があります。","") -> スポーツ安全保険の有無の入力が漏れている可能性があります。
A31: 3枚目 | B31: チェックリスト | C31: No.1 | D31: {=_xlfn.IFS('3枚目'!DX9=FALSE,"×",'3枚目'!DX9=TRUE,"○")} -> × | E31: =IF(D31="×",C31&"の入力が漏れている可能性があります。","") -> No.1の入力が漏れている可能性があります。
C32: No.2 | D32: {=_xlfn.IFS('3枚目'!DX10=FALSE,"×",'3枚目'!DX10=TRUE,"○")} -> × | E32: =IF(D32="×",C32&"の入力が漏れている可能性があります。","") -> No.2の入力が漏れている可能性があります。
C33: No.3 | D33: {=_xlfn.IFS('3枚目'!DX11=FALSE,"×",'3枚目'!DX11=TRUE,"○")} -> × | E33: =IF(D33="×",C33&"の入力が漏れている可能性があります。","") -> No.3の入力が漏れている可能性があります。
C34: No.4 | D34: {=_xlfn.IFS('3枚目'!DX12=FALSE,"×",'3枚目'!DX12=TRUE,"○")} -> × | E34: =IF(D34="×",C34&"の入力が漏れている可能性があります。","") -> No.4の入力が漏れている可能性があります。
C35: No.5 | D35: {=_xlfn.IFS('3枚目'!DX13=FALSE,"×",'3枚目'!DX13=TRUE,"○")} -> × | E35: =IF(D35="×",C35&"の入力が漏れている可能性があります。","") -> No.5の入力が漏れている可能性があります。
C36: No.6 | D36: {=_xlfn.IFS('3枚目'!DX14=FALSE,"×",'3枚目'!DX14=TRUE,"○")} -> × | E36: =IF(D36="×",C36&"の入力が漏れている可能性があります。","") -> No.6の入力が漏れている可能性があります。
C37: No.7 | D37: {=_xlfn.IFS('3枚目'!DX15=FALSE,"×",'3枚目'!DX15=TRUE,"○")} -> × | E37: =IF(D37="×",C37&"の入力が漏れている可能性があります。","") -> No.7の入力が漏れている可能性があります。
C38: No.8 | D38: {=_xlfn.IFS('3枚目'!DX16=FALSE,"×",'3枚目'!DX16=TRUE,"○")} -> × | E38: =IF(D38="×",C38&"の入力が漏れている可能性があります。","") -> No.8の入力が漏れている可能性があります。
C39: No.9 | D39: {=_xlfn.IFS('3枚目'!DX17=FALSE,"×",'3枚目'!DX17=TRUE,"○")} -> × | E39: =IF(D39="×",C39&"の入力が漏れている可能性があります。","") -> No.9の入力が漏れている可能性があります。
C40: No.10 | D40: {=_xlfn.IFS('3枚目'!DX18=FALSE,"×",'3枚目'!DX18=TRUE,"○")} -> × | E40: =IF(D40="×",C40&"の入力が漏れている可能性があります。","") -> No.10の入力が漏れている可能性があります。
C41: No.11 | D41: {=_xlfn.IFS('3枚目'!DX19=FALSE,"×",'3枚目'!DX19=TRUE,"○")} -> × | E41: =IF(D41="×",C41&"の入力が漏れている可能性があります。","") -> No.11の入力が漏れている可能性があります。
B42: 署名欄 | C42: 氏名 | D42: =IF('3枚目'!CM30="","×","○") -> × | E42: =IF(D42="×",C42&"の入力が漏れている可能性があります。","") -> 氏名の入力が漏れている可能性があります。

Sheet 1枚目
A1: 様式第１号（第４条関係）
A4: 児 童 ク ラ ブ 入 級 申 請 書
DO6: 年 月 日
A7: 牛久市教育委員会教育長 様
CD8: 〒
BH9: 保護者 | BT9: 住 所
BT10: 氏 名
BT11: 電話番号
A13: 牛久市放課後児童対策施設の設置及び管理に関する条例第８条の規定に基づき、児童クラブへの入級を申請いたします。
A15: 入 級 児童クラブ名
A16: フ リ ガ ナ | DM16: 性 別
A17: 児 童 氏 名
A18: 生 年 月 日 | AA18: 年 月 日 | CD18: 生 | CM18: 学 校 名
A19: 健 康 状 態 | CM19: 学年・組 ※新年度の申請は学年 のみご記入ください | DY19: 年 | EF19: － | ER19: 組
A20: 既 往 歴 | CM20: 担 任 氏 名
A21: 入級希望期間 | AA21: 新学期から （４月１日から） | BR21: 長期休暇のみ （夏休み・冬休み・春休み） | DI21: 年度途中から （ 月 日から）
A22: 延長開級時間の 利用希望の有無 | BA22: 土曜日の利用 希望の有無 | CW22: 延長開級・土曜開級の利用希望の 理由等について裏面に記入すること
A23: 家 族 構 成 | U23: 氏 名 | BI23: 年 齢 | BY23: 続 柄 | CO23: 勤 務 先 名 | EE23: 帰宅時間
A31: 緊急連絡先 （2名以上） | U31: 氏 名 ・ 名 称 | BI31: 続 柄 ・ 関 係 | CO31: 電 話 番 号

Sheet 2枚目
A1: 延長開級・土曜開級の利用希望の理由について
A2: ※主にお迎えに来る人のことを記入する
A3: 勤 務 所 在 地
A4: 勤 務 時 間 | AF4: 時 分 | CB4: から | CO4: 時 分 | EK4: まで
A5: 通 勤 方 法
A6: 通 勤 時 間
A7: 延長開級時間の 利用希望の理由
A8: 土曜勤務の時間 | AF8: 時 分 | CB8: から | CO8: 時 分 | EK8: まで
A9: 土曜開級時間の 利用希望の理由
A11: スポーツ安全保険の申込希望
A13: ＜公益財団法人スポーツ安全協会のスポーツ安全保険内容について＞ 児童クラブでは、事故などを起こさないよう細心の注意を払っていますが、集団生活の中では思わぬ事故等が起きることがあります。児童クラブの活動時間中の万一の事故等の備えとして、希望する方には公益財団法人スポーツ安全協会が取り扱うスポーツ安全保険に加入していただきます。 ※スポーツ安全保険に加入しない場合は、万が一の事故等に備え、個人でその他の保険に加入するなどの対応をお願いします。
A17: （１）補償の種類と内容（加入区分：Ａ１）
C18: 種類 | U18: 適用範囲 | DB18: 補償額（令和8年度時点）
C19: 傷害保険 | U19: 急激で偶然な外来の事故により被った傷害による死亡、後遺障害、入院、通院。 ※通院は最大30日分、入院は最大180日分が限度となる。 | DB19: 通院：1,500円/日 入院：4,000円/日 後遺障害：4,500万円（最高） 死亡：3,000万円
C20: 賠償責任 保険 | U20: 他人にケガをさせたり、他人の物を壊したりすることにより、法律上の損害賠償責任を負うことによって被った損害。 | DB20: 対人・対物賠償合算 1事故5億円（最高） ただし、対人賠償は 1人2億円（最高）
C21: 突然死葬祭 費用保険 | U21: 突然死（急性心不全、脳内出血などによる死亡）に際し、親族が負担した葬祭費用。 | DB21: 180万円 | FK21: 対人・対物賠償合算 1事故5億円（最高） ただし、対人賠償は 1人1億円（最高）
C23: なお、対象となる事故の範囲は以下のとおりです。 ① 団体への入会日から年度末までの事故 ②「団体の管理下」における「団体活動中」の事故
A26: （２）保護者等負担額４００円/年（年間掛金は８００円ですが、市が半額の４００円を負担します。）
A27: （３）保護者負担額の納付方法
A28: 利用初月に1度、児童クラブ負担金登録口座から400円加算して引き落としとなります。

Sheet 3枚目
A1: ＜留意事項チェック １１項目＞
A3: 児童クラブは、共働きや家族の介護・看護などの理由により家庭が留守であるため、学校から帰宅した際に保護者等（祖父母等を含む。以下「保護者等」という。）からの保育に欠ける児童に対し、放課後に適切な遊びや生活の場を与えて健全な育成を図ることを目的としています。 つきましては、事業の目的を理解し、制度を適正に利用していただくため、次の確認内容をよく読んでいただき、チェック欄の「□」に「レ」印を記入してください。 制度の適正な運用にご理解とご協力をお願いいたします。
A7: ○適正な利用決定をするために
C8: No. | J8: 確認内容 | DX8: チェック欄
C9: 1 | J9: 保護者の労働等の理由で、真に家庭で保育を受けることができない児童のために開設されているものであることを理解して、児童クラブを利用すること。 | DX9: FALSE | ED9: 承知しました
C10: 2 | J10: 祖父母や親せき等による保育が可能であるかどうかを考慮するなど、児童クラブの利用（公助）の前に自助、共助による方法を検討すること。 | DX10: FALSE | ED10: 検討しました
C11: 3 | J11: 入級申請書類等の確認のために就労先や家庭の状況確認などを教育委員会等が確認する場合があること。 | DX11: FALSE | ED11: 承知しました
A12: ○保護者等及び児童クラブが児童を大切に保育するために
C13: 4 | J13: 児童の健康状態その他の理由により、保護者等へ直接または就労先等を通じて連絡することがあること。 | DX13: FALSE | ED13: 承知しました
C14: 5 | J14: 健康状態や普段の生活の様子等を確認するため、当該児童が通う小学校や保育園等へ連絡する場合があること。 | DX14: FALSE | ED14: 承知しました
C15: 6 | J15: 保護者等は、できるだけ早く帰宅し、宿題の確認の他、学校での出来事等について話を聞くなど、児童との関わりを大切にすること。 | DX15: FALSE | ED15: 承知しました
A16: ○児童クラブを適正に運営するために
C17: 7 | J17: 利用時間を厳守し、午後７時までには必ず児童を迎えに来ること。 | DX17: FALSE | ED17: 承知しました
C18: 8 | J18: 児童クラブ負担金は、納期限に必ず口座振替により支払うこと。口座振替できなかった場合は、納付書により市が指定する期限までに必ず納付すること。 | DX18: FALSE | ED18: 承知しました
C19: 9 | J19: 児童クラブ負担金の還付が発生した際、振込先は児童クラブ負担金の引落口座とします。未納がある場合には、未納分へ還付金を充当させていただきます。 | DX19: FALSE | ED19: 承知しました
C20: 10 | J20: 利用できる要件に該当しなくなった場合は、遅滞なく児童クラブ退級届出書を提出すること。 | DX20: FALSE | ED20: 承知しました
C21: 11 | J21: その他、保護者等は、児童クラブの適正な運営に協力すること。 | DX21: FALSE | ED21: 承知しました
A23: ≪ 承 諾 書 ≫
A25: 以下のような場合には、入級許可の取消し・退級の勧奨・他施設への移行等の相談があることについて、承諾します。 ●家庭で保育ができるなど資格要件に該当しなくなったとき ●申請書や就労証明書の内容に偽りが判明した場合 ●児童クラブの管理・運営に支障を及ぼす場合 【例】 ・無断欠席が続く場合 ・休級が続き利用がない場合 ・出席日数が著しく少ない場合 ・19時までのお迎えに間に合わない場合 ・負担金の滞納が続く場合 ・他の児童や支援員への暴力、迷惑行為が続く場合 ・児童クラブ外に無断で突発的に出ていくなど危険な行為が続く場合 ・支援に複数の支援員を要し、基準人数の支援員で対応できない場合 ・故意に施設・備品等の損壊等を行う場合
BO30: 保護者氏名
